BEGIN:VCALENDAR
VERSION:2.0
PRODID:-//Apple Inc.//Mac OS X 10.12.3//EN
CALSCALE:GREGORIAN
BEGIN:VTIMEZONE
TZID:Europe/Vienna
BEGIN:DAYLIGHT
TZOFFSETFROM:+0100
RRULE:FREQ=YEARLY;BYMONTH=3;BYDAY=-1SU
DTSTART:19810329T020000
TZNAME:MESZ
TZOFFSETTO:+0200
END:DAYLIGHT
BEGIN:STANDARD
TZOFFSETFROM:+0200
RRULE:FREQ=YEARLY;BYMONTH=10;BYDAY=-1SU
DTSTART:19961027T030000
TZNAME:MEZ
TZOFFSETTO:+0100
END:STANDARD
END:VTIMEZONE
BEGIN:VEVENT
TRANSP:OPAQUE
DTEND;TZID=Europe/Vienna:20180624T050000
LAST-MODIFIED:20170721T131900Z
UID:CC5C8665-3494-4FBC-81E5-DD747DB8EE63
DTSTAMP:20170721T131900Z
LOCATION:Wrannpark 1-3\, 9220 Velden am Wörthersee\, Österreich
DESCRIPTION:Treffpunkt ist 12:00 beim Seehotel Europa in Velden.\nDas vo
 llständige Programm findet ihr online hier: https://didimoni.at/programm
 /
URL;VALUE=URI:https://didimoni.at/programm/
STATUS:CONFIRMED
SEQUENCE:2
CLASS:PUBLIC
SUMMARY:Hochzeit Didi und Moni
DTSTART;TZID=Europe/Vienna:20180623T120000
X-APPLE-TRAVEL-ADVISORY-BEHAVIOR:AUTOMATIC
CREATED:20170721T130421Z
X-APPLE-STRUCTURED-LOCATION;VALUE=URI;X-APPLE-MAPKIT-HANDLE=CAESwAEaEgkl
 3ksrz05HQBEYYHpWLRgsQCJiCgvDlnN0ZXJyZWljaBICQVQaCEvDpHJudGVuKgxWaWxsYWNo
 IExhbmQyFlZlbGRlbiBhbSBXw7ZydGhlciBTZWU6BDkyMjBSCVdyYW5ucGFya1oBMWILV3Jh
 bm5wYXJrIDEqC1dyYW5ucGFyayAxMgtXcmFubnBhcmsgMTIbOTIyMCBWZWxkZW4gYW0gV8O2
 cnRoZXIgU2VlMgvDlnN0ZXJyZWljaDg5QAA=;X-APPLE-RADIUS=49.91305667583141;X-
 TITLE="Wrannpark 1-3, 9220 Velden am Wörthersee, Österreich":geo:46.6156
 97,14.047221
BEGIN:VALARM
X-WR-ALARMUID:AB9A6646-589B-4662-8101-80C972D57E4F
UID:AB9A6646-589B-4662-8101-80C972D57E4F
TRIGGER;VALUE=DATE-TIME:19760401T005545Z
ACTION:NONE
END:VALARM
BEGIN:VALARM
X-WR-ALARMUID:EF32239B-7FF3-434D-8762-E042EA056E2E
UID:EF32239B-7FF3-434D-8762-E042EA056E2E
TRIGGER:-PT1H
DESCRIPTION:This is an event reminder
ACTION:DISPLAY
END:VALARM
END:VEVENT
END:VCALENDAR
